BEGIN:VCALENDAR
VERSION:2.0
PRODID:-//TNA - ECPv6.15.18//NONSGML v1.0//EN
CALSCALE:GREGORIAN
METHOD:PUBLISH
X-ORIGINAL-URL:https://www.tna.org.uk
X-WR-CALDESC:Events for TNA
REFRESH-INTERVAL;VALUE=DURATION:PT1H
X-Robots-Tag:noindex
X-PUBLISHED-TTL:PT1H
BEGIN:VTIMEZONE
TZID:Europe/London
BEGIN:DAYLIGHT
TZOFFSETFROM:+0000
TZOFFSETTO:+0100
TZNAME:BST
DTSTART:20240331T010000
END:DAYLIGHT
BEGIN:STANDARD
TZOFFSETFROM:+0100
TZOFFSETTO:+0000
TZNAME:GMT
DTSTART:20241027T010000
END:STANDARD
BEGIN:DAYLIGHT
TZOFFSETFROM:+0000
TZOFFSETTO:+0100
TZNAME:BST
DTSTART:20250330T010000
END:DAYLIGHT
BEGIN:STANDARD
TZOFFSETFROM:+0100
TZOFFSETTO:+0000
TZNAME:GMT
DTSTART:20251026T010000
END:STANDARD
BEGIN:DAYLIGHT
TZOFFSETFROM:+0000
TZOFFSETTO:+0100
TZNAME:BST
DTSTART:20260329T010000
END:DAYLIGHT
BEGIN:STANDARD
TZOFFSETFROM:+0100
TZOFFSETTO:+0000
TZNAME:GMT
DTSTART:20261025T010000
END:STANDARD
END:VTIMEZONE
BEGIN:VEVENT
DTSTART;TZID=Europe/London:20251105T180000
DTEND;TZID=Europe/London:20251105T193000
DTSTAMP:20260422T215939
CREATED:20250925T095849Z
LAST-MODIFIED:20250925T095849Z
UID:10000142-1762365600-1762371000@www.tna.org.uk
SUMMARY:RSG Hampshire & surrounding area Zoom Meeting
DESCRIPTION:Contact: sam.jeffery@tna.org.uk
URL:https://www.tna.org.uk/event/rsg-hampshire-surrounding-area-zoom-meeting/
CATEGORIES:Regional Support Groups
END:VEVENT
BEGIN:VEVENT
DTSTART;TZID=Europe/London:20251108T150000
DTEND;TZID=Europe/London:20251108T163000
DTSTAMP:20260422T215939
CREATED:20250909T141207Z
LAST-MODIFIED:20250910T151712Z
UID:10000136-1762614000-1762619400@www.tna.org.uk
SUMMARY:Derbyshire\, Staffordshire\, Nottinghamshire & surrounding areas RSGM Face to Face
DESCRIPTION:Meeting near J25 M1 \nPlease contact deborah.edwards@tna.org.uk or john.vanhegan@tna.org.uk for more details. \nAll attendees must be members please contact heather.morris@tna.org.uk for details.
URL:https://www.tna.org.uk/event/derbyshire-staffordshire-nottinghamshire-surrounding-areas-rsgm-face-to-face/
CATEGORIES:Regional Support Groups
END:VEVENT
BEGIN:VEVENT
DTSTART;TZID=Europe/London:20251112T190000
DTEND;TZID=Europe/London:20251112T200000
DTSTAMP:20260422T215939
CREATED:20250909T141628Z
LAST-MODIFIED:20250909T141708Z
UID:10000137-1762974000-1762977600@www.tna.org.uk
SUMMARY:Derbyshire\, Staffordshire and surrounding areas RSG Meeting via zoom
DESCRIPTION:Please contact debora.edwards@tna.org.uk for more details. \nAll attendees must be members please contact heather.morris@tna.org.uk for more details
URL:https://www.tna.org.uk/event/derbyshire-staffordshire-and-surrounding-areas-rsg-meeting-via-zoom/
CATEGORIES:Regional Support Groups
END:VEVENT
BEGIN:VEVENT
DTSTART;TZID=Europe/London:20251122T150000
DTEND;TZID=Europe/London:20251122T170000
DTSTAMP:20260422T215939
CREATED:20250930T155821Z
LAST-MODIFIED:20250930T155821Z
UID:10000143-1763823600-1763830800@www.tna.org.uk
SUMMARY:Nottingham\, Leicestershire & surrounding area
DESCRIPTION:Contact: john.vanhegan@tna.org.uk
URL:https://www.tna.org.uk/event/nottingham-leicestershire-surrounding-area/
CATEGORIES:Regional Support Groups
END:VEVENT
END:VCALENDAR