BEGIN:VCALENDAR
VERSION:2.0
PRODID:-//TNA - ECPv6.15.18//NONSGML v1.0//EN
CALSCALE:GREGORIAN
METHOD:PUBLISH
X-ORIGINAL-URL:https://www.tna.org.uk
X-WR-CALDESC:Events for TNA
REFRESH-INTERVAL;VALUE=DURATION:PT1H
X-Robots-Tag:noindex
X-PUBLISHED-TTL:PT1H
BEGIN:VTIMEZONE
TZID:Europe/London
BEGIN:DAYLIGHT
TZOFFSETFROM:+0000
TZOFFSETTO:+0100
TZNAME:BST
DTSTART:20240331T010000
END:DAYLIGHT
BEGIN:STANDARD
TZOFFSETFROM:+0100
TZOFFSETTO:+0000
TZNAME:GMT
DTSTART:20241027T010000
END:STANDARD
BEGIN:DAYLIGHT
TZOFFSETFROM:+0000
TZOFFSETTO:+0100
TZNAME:BST
DTSTART:20250330T010000
END:DAYLIGHT
BEGIN:STANDARD
TZOFFSETFROM:+0100
TZOFFSETTO:+0000
TZNAME:GMT
DTSTART:20251026T010000
END:STANDARD
BEGIN:DAYLIGHT
TZOFFSETFROM:+0000
TZOFFSETTO:+0100
TZNAME:BST
DTSTART:20260329T010000
END:DAYLIGHT
BEGIN:STANDARD
TZOFFSETFROM:+0100
TZOFFSETTO:+0000
TZNAME:GMT
DTSTART:20261025T010000
END:STANDARD
END:VTIMEZONE
BEGIN:VEVENT
DTSTART;TZID=Europe/London:20250305T190000
DTEND;TZID=Europe/London:20250305T203000
DTSTAMP:20260420T144231
CREATED:20250205T120820Z
LAST-MODIFIED:20250205T131612Z
UID:10000092-1741201200-1741206600@www.tna.org.uk
SUMMARY:RSG Cheshire and Shropshire
DESCRIPTION:Please join Helen for this online Regional Support Group meeting where you will be able to chat with\, and ‘virtually’ meet\, others who share similar experiences to yourself. \nThese are open to any members\, to become a member please click here to be directed to our membership page. If you would like to join but are in financial difficulty\, or are joining as a healthcare professional\, please email admin@tna.org.uk. \nThis is an online meeting starting at 7.00pm.
URL:https://www.tna.org.uk/event/rsg-cheshire-and-shropshire-2/
LOCATION:Zoom
END:VEVENT
BEGIN:VEVENT
DTSTART;TZID=Europe/London:20250226T190000
DTEND;TZID=Europe/London:20250226T203000
DTSTAMP:20260420T144231
CREATED:20250205T120616Z
LAST-MODIFIED:20250205T131707Z
UID:10000091-1740596400-1740601800@www.tna.org.uk
SUMMARY:RSG Merseyside and Wales
DESCRIPTION:Please join Helen for this online Regional Support Group meeting where you will be able to chat with\, and ‘virtually’ meet\, others who share similar experiences to yourself. \nThese are open to any members\, to become a member please click here to be directed to our membership page. If you would like to join but are in financial difficulty\, or are joining as a healthcare professional\, please email admin@tna.org.uk. \nThis is an online meeting starting at 7.00pm.
URL:https://www.tna.org.uk/event/rsg-merseyside-and-wales/
LOCATION:Zoom
END:VEVENT
END:VCALENDAR